BEGIN:VCALENDAR
VERSION:2.0
PRODID:-//wp-events-plugin.com//7.2.3.1//EN
BEGIN:VEVENT
UID:3-1388@shannonchamberskillnet.com
DTSTART;TZID=Europe/Dublin:20260423T093000
DTEND;TZID=Europe/Dublin:20260528T163000
DTSTAMP:20260402T154027Z
URL:https://shannonchamberskillnet.com/events/supervisory-management-qqi-l
 evel-6-6/
SUMMARY:Supervisory Management QQI Level 6
DESCRIPTION:\n\nThis Shannon Chamber Skillnet programme is cofunded by the 
 Government of Ireland\, the European Union\, and network companies. https:
 //www.eufunds.ie/\n\nThis Supervisory Management Programme provides partic
 ipants with the opportunity to gain the knowledge and expertise required t
 o excel in a managerial role. Participants will develop a range of supervi
 sory and  management skills\,  as well as improving interpersonal and co
 mmunication skills. On completion\, participants will be equipped with the
  required skills to manage\, supervise and systematically lead their team\
 , or project\, using proven communication and teamwork skills. This course
  will appeal to professionals who have recently stepped up into a supervis
 ory role\, those seeking to expand existing leadership skills and employee
 s who plan on progressing to a supervisory role.\n\nLearning Outcomes:\n\n
  	Roles and Responsibilities of a Supervisor / Team Leader\n 	Effective Co
 mmunication\n 	Emotional Intelligence and Influencing Others\n 	Building a
 nd Engaging Effective Teams\n 	Leadership Styles\n 	Effective Coaching\n 	
 Performance Management and Development Planning\n 	Assertiveness and Manag
 ing Conflict\n 	Leading and Managing Change\n 	Role of Delegation in Super
 visory Management\n 	Operational Planning and Procedures\n 	Conducting a T
 raining Needs Analysis\n 	Problem Solving and Decision Making\n 	Time Mana
 gement and Personal Effectiveness\n 	Effective Meetings\n 	Review of Emplo
 yment Legislation.\n 	Recruitment and Selection\n 	Data Protection\n 	Budg
 eting\n\nAssessment:\n\nTo achieve certification\, each candidate will be 
 required to undertake an assessment\nprocess that involves a skills demons
 tration (where candidates will be required to keep a\nlog/record of superv
 isory management activities undertaken) and a portfolio/collection of\nwor
 k. Both parts of the assessment will be subject to external verification b
 y Quality and\nQualifications Ireland (QQI).\n\nAccreditation:\n\nSupervis
 ory Management QQI Level 6\n\nProgram Fee: Members €200 / Non-Members 
 €250\n\nCourse Dates:\n\nSession 1: April 23rd from 9:30am - 4:30 pm\n\n
 Session 2: April 30th from 9:30am - 4:30 pm\n\nSession 3: May 7th from 9:3
 0am - 4:30 pm\n\nSession 4: May 28th  from 9:30am - 4:30 pm\n\nSkillnet I
 reland Trainee Privacy Statement -&gt\; HERE\n\nTraining Cancellation Pol
 icy: Training courses which are cancelled over 7 days in advance of sched
 uled training date shall incur no cancellation fee. Training courses which
  are cancelled within 7 days of scheduled training date shall incur a canc
 ellation fee equal to 50% of the cost. Registrants who give less than 24 h
 ours notice or fail to attend training will be charged 100% of the full fe
 e.\n\nFor more information please contact Aisling Ryan at aryan@shannoncha
 mber.ie
ATTACH;FMTTYPE=image/jpeg:https://shannonchamberskillnet.com/wp-content/up
 loads/sites/3/2025/03/SKILLNET-FULLY-BOOKED.png
CATEGORIES:Training
LOCATION:Shannon Chamber\, Shannon Airport House\, Shannon Free Zone\, Shan
 non\, Co Clare\, V14 E370\, Ireland
X-APPLE-STRUCTURED-LOCATION;VALUE=URI;X-ADDRESS=Shannon Free Zone\, Shannon
 \, Co Clare\, V14 E370\, Ireland;X-APPLE-RADIUS=100;X-TITLE=Shannon Chambe
 r\, Shannon Airport House:geo:0,0
END:VEVENT
BEGIN:VTIMEZONE
TZID:Europe/Dublin
X-LIC-LOCATION:Europe/Dublin
BEGIN:DAYLIGHT
DTSTART:20260329T020000
TZOFFSETFROM:+0000
TZOFFSETTO:+0100
TZNAME:IST
END:DAYLIGHT
END:VTIMEZONE
END:VCALENDAR