BEGIN:VCALENDAR
VERSION:2.0
PRODID:-//wp-events-plugin.com//7.2.3.1//EN
BEGIN:VEVENT
UID:3-1045@shannonchamberskillnet.com
DTSTART;TZID=Europe/Dublin:20230911T090000
DTEND;TZID=Europe/Dublin:20230925T170000
DTSTAMP:20260422T161914Z
URL:
SUMMARY:PMP® Exam Preparation Course
DESCRIPTION:Velopi’s PMP® exam preparation course supports you from the 
 PMP® application process right through to success at the PMP® certificat
 ion exam. Velopi is a Project Management Institute (PMI)® Authorized Trai
 ning Partner (ATP). Training with an ATP is the only way to ensure you are
  learning “PMI®-developed” PMP® exam prep material.  This course pr
 ovides a detailed exploration of the syllabus and will explain the PMP® e
 xam policies and procedures. Using sample exams covering the core exam mat
 erial you will be exposed to questions having the same format as those in 
 the actual PMP® exam.  You will get post-course support from the PMP® c
 ertified tutor and have unlimited access until certification to our Exam S
 imulator.  This provides full trial exams to ensure you are well prepared
  to pass the PMP® exam.\n\nCourse Objectives:\n\n 	Explore all core PMP®
  exam content and hot topics\n 	Identify and recognize the various types o
 f PMP® exam questions\n 	Complete sample exams using our PMP® exam simul
 ator\n 	Assemble an exam checklist allowing easy recall of mathematical fo
 rmulas that appear on the exam\n 	Compile an exam strategy that will be us
 ed in the actual exam\n 	Become familiar with the exam policies and proced
 ures\n 	Meet the 35 hour Project Management training requirement for the P
 MP® application\n 	Pass the PMP® Exam on the first attempt!\n\nCourse De
 scription: \n\n 	Navigate the new\, topic-based course structure\n 	Tackl
 e questions relating to people and business topics\n 	Appreciate what agil
 e is about and where it should be applied\n 	Make use of the PMI® trainin
 g materials for self-study\n\nWho should attend: \n\nThis Project Manageme
 nt Professional training course is aimed at experienced Project Managers\,
  looking to obtain Project Management Professional Certification (PMP)® f
 rom the Project Management Institute (PMI)®.  If you are preparing to ta
 ke the PMP® Exam and are seeking expert guidance on exam strategy\, hot t
 opics\, sample exam questions and after-course support\, then this is the 
 course for you.  It is officially approved by the PMI® and is the best w
 ay to obtain the PMP® certification.\n\nExam &amp\; Certification: \n\nFo
 llowing successful completion of the separate Project Management Professio
 nal (PMP)® Exam\, the PMP® certification will be awarded by the Project 
 Management Institute (PMI)®.  The course will provide:\n\n• assistance
  with the PMI® membership\, PMP® Exam registration\, PMP® Application f
 orm preparation and credential application procedure.\n\n• 35 hours of a
 ccredited project management training required by PMI® prior to the PMP®
  application process.\n\n• access to PMI® developed learning materials 
 and PMI® online learning portal.\n\n• 6 Mastery Builder Quizzes after e
 ach lesson to confirm participants' understanding of subject matter.\n\n
 • e-mail and phone support as necessary from PMP® certified tutor until
  PMP® Certification is achieved.\n\n• a framework to enable trainees to
  obtain the PMI® specific understanding required to pass the examination.
 \n\n• access to our 800 PMP® Exam questions in the Velopi PMP® Exam Si
 mulator.\n\n• one-on-one feedback regarding performance in each knowledg
 e area to allow trainees to focus on areas requiring improvement.\n\nProgr
 am Fee: Members / Non-Members: €680\n\nThis is a 5 day Virtual Classroom
  Course delivered via  Zoom.\n\nDates:  11th\, 12th\, 18th\, 19th and 25
 th September 2023\n\nTime: 9am - 5pm daily (lunch &amp\; coffee break will
  be allocated)\n\nPlease book online For more information email akelly@sha
 nnonchamber.ie or call Alan on 086 0665689\n\nPlease quote Purchase Order 
 number if required on invoice. Cheques should be made payable to Shannon 
 Chamber Skillnet. \n\nTraining Cancellation Policy: Training courses whic
 h are cancelled over 7 days in advance of scheduled training date shall in
 cur no cancellation fee. Training courses which are cancelled within 7 day
 s of scheduled training date shall incur a cancellation fee equal to 50% o
 f the cost. Registrants who give less than 24 hours notice or fail to atte
 nd training will be charged 100% of the full fee.\n\nShannon Chamber Skill
 net is co-funded by Skillnet Ireland and member companies. Skillnet Irelan
 d is funded from the National Training Fund through the Department of Educ
 ation and Skills. For further information please visit www.skillnetirelan
 d.ie\n\nSkillnet Ireland Trainee Privacy Statement -&gt\; HERE\n\n
LOCATION:Online\, Online\, Online\, Ireland
X-APPLE-STRUCTURED-LOCATION;VALUE=URI;X-ADDRESS=Online\, Online\, Ireland;X
 -APPLE-RADIUS=100;X-TITLE=Online:geo:0,0
END:VEVENT
BEGIN:VTIMEZONE
TZID:Europe/Dublin
X-LIC-LOCATION:Europe/Dublin
BEGIN:DAYLIGHT
DTSTART:20230326T020000
TZOFFSETFROM:+0000
TZOFFSETTO:+0100
TZNAME:IST
END:DAYLIGHT
END:VTIMEZONE
END:VCALENDAR