BEGIN:VCALENDAR
VERSION:2.0
PRODID:-//wp-events-plugin.com//7.2.3.1//EN
BEGIN:VEVENT
UID:3-1387@shannonchamberskillnet.com
DTSTART;TZID=Europe/Dublin:20260528T093000
DTEND;TZID=Europe/Dublin:20260528T124500
DTSTAMP:20260305T160424Z
URL:https://shannonchamberskillnet.com/events/microsoft-excel-advanced-24/
SUMMARY:Microsoft Excel Advanced
DESCRIPTION:Course Overview:  This Microsoft Excel Advanced virtual trainin
 g course is designed for candidates who would like to enhance their unders
 tanding and knowledge of Excel to an advanced level. It takes participants
  through the items listed in the course contents to a point where particip
 ants can use Microsoft Excel to advanced levels to increase efficiency in 
 their everyday work.\n\nDuration: Half Day \n\nCourse Content: \n\n 	Int
 roduction\, Overview &amp\; Objectives\n 	Microsoft Excel Level Recap\n 	A
 dvanced Formulas &amp\; Functions\n 	Templates\n 	V &amp\; H Lookups\n 	Br
 eak\n 	Advanced Charts\n 	Scenarios &amp\; Validation\n 	Power Pivots &amp
 \; Pivot Tables\n 	Data Connectors/Macros\n\nPlease book online Price: Non
  Member - €55 / Member €45\n\nFor more information please contact Aisl
 ing Ryan on aryan@shannonchamber.ie\n\nThe link to join this online traini
 ng will be sent to all registrants 24 hours before scheduled time.  \n\nS
 killnet Ireland Trainee Privacy Statement -&gt\; HERE\n\nFor further inf
 ormation please visit www.skillnetireland.ie\n\nTraining Cancellation Pol
 icy: Training courses which are cancelled over 7 days in advance of sched
 uled training date shall incur no cancellation fee. Training courses which
  are cancelled within 7 days of scheduled training date shall incur a canc
 ellation fee equal to 50% of the cost. Registrants who give less than 24 h
 ours notice or fail to attend training will be charged 100% of the full fe
 e.
ATTACH;FMTTYPE=image/jpeg:https://shannonchamberskillnet.com/wp-content/up
 loads/sites/3/2025/03/SKILLNET-LOGO.png
CATEGORIES:Training
LOCATION:Online\, Online\, Online\, Ireland
X-APPLE-STRUCTURED-LOCATION;VALUE=URI;X-ADDRESS=Online\, Online\, Ireland;X
 -APPLE-RADIUS=100;X-TITLE=Online:geo:0,0
END:VEVENT
BEGIN:VTIMEZONE
TZID:Europe/Dublin
X-LIC-LOCATION:Europe/Dublin
BEGIN:DAYLIGHT
DTSTART:20260329T020000
TZOFFSETFROM:+0000
TZOFFSETTO:+0100
TZNAME:IST
END:DAYLIGHT
END:VTIMEZONE
END:VCALENDAR