BEGIN:VCALENDAR
VERSION:2.0
PRODID:-//wp-events-plugin.com//7.2.3.1//EN
BEGIN:VEVENT
UID:3-1133@shannonchamberskillnet.com
DTSTART;TZID=Europe/Dublin:20240207T093000
DTEND;TZID=Europe/Dublin:20240214T130000
DTSTAMP:20260422T174738Z
URL:
SUMMARY:Introduction to Power BI Level 1
DESCRIPTION:Power BI is a business analytics service developed by Microsoft
 . It provides interactive visualizations and business intelligence capabil
 ities with an interface simple enough for end users to create their own re
 ports and dashboards. Power BI allows users to connect to a wide variety o
 f data sources\, both on-premises and in the cloud\, and then transform an
 d model the data for analysis. Power BI is widely used in businesses and o
 rganizations for data analysis \,reporting and decision making. It helps u
 sers gain insights from their data\, share those insights with others\, an
 d make data driven decisions. This introductory level session run over two
  half days will equip learners with the skills needed to use Power BI in t
 heir daily work.\n\nThis event takes places over 2 half days. \n\nDay 1 7t
 h Feb 09:30 - 13:00. \n\nDay 2 14th Feb 09:30 - 13:00. \n\nAttendees shou
 ld attend both sessions. \n\nCourse Content: \n\nSession 1 - Power BI Ov
 erview (7th Feb 09:30 - 13:00)\n\nThe Microsoft Power Platform\n\n 	Power 
 BI Desktop\n 	Power BI Service\n 	Power Automate\n 	Power Apps\n 	Power Qu
 ery\n 	Power Pivot\n\nPower BI Desktop\n\n 	Getting and transforming your 
 data\n 	Building simple visualisations\n 	Building reports and Mobile Apps
 \n 	Publishing to the Power BI service\n 	Using filters and slicers\n\nPow
 er BI Service\n\n 	Reports\, Pages\, Dashboards\n\nSession 2 - The Data (1
 4th Feb 09:30 - 13:00)\n\nConnecting to Data Sources\n\n 	Excel Files\, sh
 eets\, tables and cells\n 	SQL Server. Azure SQL\n 	Access databases\n 	Da
 taverse\n 	Web pages\n\nThe Power Query Editor\n\n 	Removing\, renaming\, 
 splitting and merging columns\n 	Removing top rows\, duplicates and errors
 \n 	Promoting header rows\n 	Changing case and trimming spaces\n 	Changing
  data types\n 	Filtering and sorting\n 	Replacing values\n 	Filling down\n
  	Grouping and summarising data\n\nAppend and merge queries\n\nConnect to 
 and merge all files in a folder\n\nIntroduction to M language\n\nUsing Par
 ameters\n\nModelling Data\n\n 	Creating relationships\n 	Adding new column
 s\n 	Creating measures\n 	DAX functions\n 	Creating a calendar table\n 	Cr
 eating a measures table\n\nPlease note this is an online program and the l
 ink to join this online training will be sent to all registrants 24 /48 ho
 urs before scheduled time\n\nPlease book online\n\nPrice: Non Member – 
 €200 / Member €175\n\nFor more information please contact Alan Kelly a
 t akelly@shannonchamber.ie\n\nSkillnet Ireland Trainee Privacy Statement
  -&gt\; HERE\n\n\n\nTraining Cancellation Policy: Training courses which
  are cancelled over 7 days in advance of scheduled training date shall inc
 ur no cancellation fee. Training courses which are cancelled within 7 days
  of scheduled training date shall incur a cancellation fee equal to 50% of
  the cost. Registrants who give less than 24 hours notice or fail to atten
 d training will be charged 100% of the full fee.
LOCATION:Online\, Online\, Online\, Ireland
X-APPLE-STRUCTURED-LOCATION;VALUE=URI;X-ADDRESS=Online\, Online\, Ireland;X
 -APPLE-RADIUS=100;X-TITLE=Online:geo:0,0
END:VEVENT
BEGIN:VTIMEZONE
TZID:Europe/Dublin
X-LIC-LOCATION:Europe/Dublin
BEGIN:STANDARD
DTSTART:20231029T010000
TZOFFSETFROM:+0100
TZOFFSETTO:+0000
TZNAME:GMT
END:STANDARD
END:VTIMEZONE
END:VCALENDAR